BEGIN:VCALENDAR
VERSION:2.0
PRODID:-//Open-Xchange//7.10.6-Rev35//EN
BEGIN:VTIMEZONE
TZID:Europe/Berlin
LAST-MODIFIED:20230104T023643Z
TZURL:https://www.tzurl.org/zoneinfo-outlook/Europe/Berlin
X-LIC-LOCATION:Europe/Berlin
BEGIN:DAYLIGHT
TZNAME:CEST
TZOFFSETFROM:+0100
TZOFFSETTO:+0200
DTSTART:19700329T020000
RRULE:FREQ=YEARLY;BYMONTH=3;BYDAY=-1SU
END:DAYLIGHT
BEGIN:STANDARD
TZNAME:CET
TZOFFSETFROM:+0200
TZOFFSETTO:+0100
DTSTART:19701025T030000
RRULE:FREQ=YEARLY;BYMONTH=10;BYDAY=-1SU
END:STANDARD
END:VTIMEZONE
BEGIN:VEVENT
DTSTAMP:20230213T130630Z
CLASS:PUBLIC
CREATED:20230213T130630Z
DESCRIPTION:Stimme mit JA beim Volksentscheid!\n\nGut zu wissen: Nur\, wenn
  die Mindestbeteiligung erfüllt ist\, ist der Volksentscheid erfolgreich: 
 25 Prozent der Wahlberechtigten müssen zustimmen.\n\nInfos auf https://www
 .berlin2030.org/
DTEND;TZID=Europe/Berlin:20230326T180000
DTSTART;TZID=Europe/Berlin:20230326T080000
LAST-MODIFIED:20230213T130630Z
LOCATION:Wahllokal
SEQUENCE:0
SUMMARY:Volksentscheid Berlin 2030 Klimaneutral
TRANSP:OPAQUE
UID:45175e5d-0b3c-466b-84dc-6838858f75c8
X-MICROSOFT-CDO-BUSYSTATUS:BUSY
BEGIN:VALARM
TRIGGER:-PT15M
UID:c9df7a1c-ac2d-42ab-a6a9-651fa029476f
ACTION:DISPLAY
DESCRIPTION:Reminder
END:VALARM
END:VEVENT
END:VCALENDAR
