BEGIN:VCALENDAR
X-LOTUS-CHARSET:UTF-8
VERSION:2.0
PRODID:ZMS-Berlin
BEGIN:VTIMEZONE
TZID:Europe/Berlin
X-LIC-LOCATION:Europe/Berlin
BEGIN:DAYLIGHT
TZOFFSETFROM:+0100
TZOFFSETTO:+0200
TZNAME:CEST
DTSTART:19700329T020000
RRULE:FREQ=YEARLY;INTERVAL=1;BYDAY=-1SU;BYMONTH=3
END:DAYLIGHT
BEGIN:STANDARD
TZOFFSETFROM:+0200
TZOFFSETTO:+0100
TZNAME:CET
DTSTART:19701025T030000
RRULE:FREQ=YEARLY;INTERVAL=1;BYDAY=-1SU;BYMONTH=10
END:STANDARD
END:VTIMEZONE
METHOD:REQUEST
BEGIN:VEVENT
UID:ics.terminsysteme.de1679477635
DTSTAMP:20230322T103355
CLASS:PUBLIC
DTSTART;TZID=Europe/Berlin:20230325T140000
DTEND;TZID=Europe/Berlin:20230325T200000
LOCATION:Brandenburger Tor, Berlin
SUMMARY:Berlin Climate Aid | Demo mit Konzert
DESCRIPTION:Lasst uns gemeinsam für den Volksentscheid laut werden! Wir rufen am 25. März zu einer Großdemonstration mit Livemusik und Reden am Brandenburger Tor auf.\n\nhttps://www.berlin2030.org/climateaid/
BEGIN:VALARM
ACTION:DISPLAY
TRIGGER:-PT1440M
DESCRIPTION:Erinnerung
END:VALARM
END:VEVENT
END:VCALENDAR
