BEGIN:VCALENDAR
X-LOTUS-CHARSET:UTF-8
VERSION:2.0
PRODID:ZMS-Berlin
BEGIN:VTIMEZONE
TZID:Europe/Berlin
X-LIC-LOCATION:Europe/Berlin
BEGIN:DAYLIGHT
TZOFFSETFROM:+0100
TZOFFSETTO:+0200
TZNAME:CEST
DTSTART:19700329T020000
RRULE:FREQ=YEARLY;INTERVAL=1;BYDAY=-1SU;BYMONTH=3
END:DAYLIGHT
BEGIN:STANDARD
TZOFFSETFROM:+0200
TZOFFSETTO:+0100
TZNAME:CET
DTSTART:19701025T030000
RRULE:FREQ=YEARLY;INTERVAL=1;BYDAY=-1SU;BYMONTH=10
END:STANDARD
END:VTIMEZONE
METHOD:REQUEST
BEGIN:VEVENT
UID:ics.terminsysteme.de1679606969
DTSTAMP:20230323T222929
CLASS:PUBLIC
DTSTART;TZID=Europe/Berlin:20230326T110000
DTEND;TZID=Europe/Berlin:20230326T150000
LOCATION:Nettelbeckplatz, Berlin
SUMMARY:Tour 2 - Fahrrad-Demo am Wahltag
DESCRIPTION:Tour 2 – Nord/Ost (ca. 34 km):\n11 Uhr Nettelbeckplatz\n12 Uhr Bürgerpark Pankow\n13 Uhr Antonplatz/Greifswalder Str.\n14 Uhr Boxhagener Platz\n15 Uhr Rotes Rathaus
BEGIN:VALARM
ACTION:DISPLAY
TRIGGER:-PT720M
DESCRIPTION:Erinnerung
END:VALARM
END:VEVENT
END:VCALENDAR
